BEGIN:VCALENDAR
VERSION:2.0
PRODID:spatie/icalendar-generator
DESCRIPTION:Events from &amp;quot\;Pro-AS&amp;quot\; Cod SMIS 311072
X-WR-CALDESC:Events from &amp;quot\;Pro-AS&amp;quot\; Cod SMIS 311072
REFRESH-INTERVAL;VALUE=DURATION:PT1440M
X-PUBLISHED-TTL:PT1440M
BEGIN:VTIMEZONE
TZID:Etc/GMT+0
BEGIN:STANDARD
DTSTART:20240127T150000Z
TZOFFSETFROM:+0000
TZOFFSETTO:+0000
END:STANDARD
END:VTIMEZONE
BEGIN:VTIMEZONE
TZID:UTC
BEGIN:STANDARD
DTSTART:20250725T093822Z
TZOFFSETFROM:+0000
TZOFFSETTO:+0000
END:STANDARD
END:VTIMEZONE
BEGIN:VEVENT
UID:7-7
DTSTAMP:20260421T093822Z
SUMMARY:EVENIMENTE DE INFORMARE NR. 3 - Deva
LOCATION:Camera de Comerț și Industrie Hunedoara Str. 1 Decembrie 1918 nr
 . 23 Deva Hunedoara
ORGANIZER;CN=admin:MAILTO:admin@asociatia-asura.ro
DTSTART;TZID=Etc/GMT+0:20241023T150000
DTEND;TZID=Etc/GMT+0:20241023T170000
X-ALT-DESC;FMTTYPE=TEXT/HTML:Evenimentul este structurat după cum urmează
 : In prima parte se va vorbi despre proiect \"PRO-AS\" - Anteprenoriat Soc
 ial urban și despre finanțarea Programului Educație și Ocupare (PEO) 2
 021-2027\, iar cea de a doua parte se va vorbi despre grupul țintă\, con
 dițiile de înscriere în grupul țintă și a fost explicat conținutul 
 dosarului de recrutare. Apoi&amp;hellip\;
CATEGORIES:Eveniment fizic
URL;VALUE=URI:https://pro-as.asociatia-asura.ro/mc-events/evenimente-de-inf
 ormare-nr-3-deva/?mc_id=7
END:VEVENT
END:VCALENDAR